BEGIN:VCALENDAR
VERSION:2.0
PRODID:-//dhtmlXScheduler//NONSGML v2.2//EN
X-WR-CALNAME:Wydarzenia
BEGIN:VEVENT
DTSTART:20251126T111500
DTEND:20251126T130000
UID:1
SUMMARY:Technologia i kariera – jak się rozwijać w branży przemysłowej i dlaczego przyszłość należy do inżynierów?
END:VEVENT
END:VCALENDAR