BEGIN:VCALENDAR
VERSION:2.0
PRODID:-//dhtmlXScheduler//NONSGML v2.2//EN
X-WR-CALNAME:Wydarzenia
BEGIN:VEVENT
DTSTART:20241021T090000
DTEND:20241024T123000
UID:1
SUMMARY:The Workshop on Current Problems in Physics 2024 (WCPP'24)
END:VEVENT
END:VCALENDAR