BEGIN:VCALENDAR
VERSION:2.0
PRODID:-//dhtmlXScheduler//NONSGML v2.2//EN
X-WR-CALNAME:Wydarzenia
BEGIN:VEVENT
DTSTART:20241119T120000
DTEND:20241119T130000
UID:1
SUMMARY:Uroczystość promocji doktorskich i habilitacyjnych
END:VEVENT
END:VCALENDAR