BEGIN:VCALENDAR
VERSION:2.0
PRODID:-//dhtmlXScheduler//NONSGML v2.2//EN
X-WR-CALNAME:Wydarzenia
BEGIN:VEVENT
DTSTART:20251114T180000
DTEND:20251114T200000
UID:1
SUMMARY:Uroczysty koncert z okazji jubileuszu XXV-lecia utworzenia sieci współpracy CUCEE
END:VEVENT
END:VCALENDAR