BEGIN:VCALENDAR
VERSION:2.0
PRODID:-//dhtmlXScheduler//NONSGML v2.2//EN
X-WR-CALNAME:Wydarzenia
BEGIN:VEVENT
DTSTART:20260417T090000
DTEND:20260417T143000
UID:1
SUMMARY:V Turniej Debat Oksfordzkich - „Wizja edukacji w województwie lubuskim oczami młodych”
END:VEVENT
END:VCALENDAR