BEGIN:VCALENDAR
VERSION:2.0
PRODID:-//dhtmlXScheduler//NONSGML v2.2//EN
X-WR-CALNAME:Wydarzenia
BEGIN:VEVENT
DTSTART:20251203T094500
DTEND:20251203T130000
UID:1
SUMMARY:VII Seminarium Metodologiczne dedykowane pamięci Profesora Edwarda Hajduka
END:VEVENT
END:VCALENDAR