BEGIN:VCALENDAR
VERSION:2.0
PRODID:-//dhtmlXScheduler//NONSGML v2.2//EN
X-WR-CALNAME:Wydarzenia
BEGIN:VEVENT
DTSTART:20250526T093000
DTEND:20250530T143000
UID:1
SUMMARY:W poszukiwaniu harmonii w chaosie - Blended Intensive Programme
END:VEVENT
END:VCALENDAR