BEGIN:VCALENDAR
VERSION:2.0
PRODID:-//dhtmlXScheduler//NONSGML v2.2//EN
X-WR-CALNAME:Wydarzenia
BEGIN:VEVENT
DTSTART:20250117T170000
DTEND:20250216T000000
UID:1
SUMMARY:Wernisaż wystawy "Wszystko zostało zrobione" oraz promocja monografii dr hab. Magdaleny Gryski, prof. UZ
END:VEVENT
END:VCALENDAR