BEGIN:VCALENDAR
VERSION:2.0
PRODID:-//dhtmlXScheduler//NONSGML v2.2//EN
X-WR-CALNAME:Wydarzenia
BEGIN:VEVENT
DTSTART:20260114T110000
DTEND:20260114T150000
UID:1
SUMMARY:Widoczne. Kobiety w sztuce, nauce i kulturze
END:VEVENT
END:VCALENDAR