BEGIN:VCALENDAR
VERSION:2.0
PRODID:-//dhtmlXScheduler//NONSGML v2.2//EN
X-WR-CALNAME:Wydarzenia
BEGIN:VEVENT
DTSTART:20250912T100000
DTEND:20250912T143000
UID:1
SUMMARY:"Witamina D i żywienie w opiece nad seniorem- fundament zdrowego starzenia się" - konferencja naukowa
END:VEVENT
END:VCALENDAR