BEGIN:VCALENDAR
VERSION:2.0
PRODID:-//dhtmlXScheduler//NONSGML v2.2//EN
X-WR-CALNAME:Wydarzenia
BEGIN:VEVENT
DTSTART:20260301T180000
DTEND:20260303T133000
UID:1
SUMMARY:Polsko-rumuńskie wydarzenia: Szkoła Wiosenna i Festiwal Nauki
END:VEVENT
END:VCALENDAR