BEGIN:VCALENDAR
VERSION:2.0
PRODID:-//dhtmlXScheduler//NONSGML v2.2//EN
X-WR-CALNAME:Wydarzenia
BEGIN:VEVENT
DTSTART:20260423T170000
DTEND:20260423T183000
UID:1
SUMMARY:„Dlaczego wszystko wiemy, a nic nie rozumiemy?”
END:VEVENT
END:VCALENDAR