BEGIN:VCALENDAR
VERSION:2.0
PRODID:-//dhtmlXScheduler//NONSGML v2.2//EN
X-WR-CALNAME:Wydarzenia
BEGIN:VEVENT
DTSTART:20240619T094500
DTEND:20240619T120000
UID:1
SUMMARY:Wykład otwarty: "Kryzys resocjalizacji czy(li) sukces działań pozornych: refleksje wokół polskiej rzeczywistości resocjalizacyjnej"
END:VEVENT
END:VCALENDAR