BEGIN:VCALENDAR
VERSION:2.0
PRODID:-//dhtmlXScheduler//NONSGML v2.2//EN
X-WR-CALNAME:Wydarzenia
BEGIN:VEVENT
DTSTART:20251006T140000
DTEND:20251006T160000
UID:1
SUMMARY:„Journalism/media studies -  how sport and media are converging and how sport is shaping the future of media". Wykład otwarty prof. Andrésa Martíneza z Arizona State University
END:VEVENT
END:VCALENDAR