BEGIN:VCALENDAR
VERSION:2.0
PRODID:-//dhtmlXScheduler//NONSGML v2.2//EN
X-WR-CALNAME:Wydarzenia
BEGIN:VEVENT
DTSTART:20250513T120000
DTEND:20250513T140000
UID:1
SUMMARY:Wykład popularny: Drukowanie 3D w skali mikro przy użyciu polimeryzacji dwufotonowej
END:VEVENT
END:VCALENDAR