BEGIN:VCALENDAR
VERSION:2.0
PRODID:-//dhtmlXScheduler//NONSGML v2.2//EN
X-WR-CALNAME:Wydarzenia
BEGIN:VEVENT
DTSTART:20251117T120000
DTEND:20251117T140000
UID:1
SUMMARY:Wykład pt.:  „Wilhelm Ogoleit – życie i działalność kolekcjonerska”, który wygłosi historyk sztuki Błażej Skaziński
END:VEVENT
END:VCALENDAR