BEGIN:VCALENDAR
VERSION:2.0
PRODID:-//dhtmlXScheduler//NONSGML v2.2//EN
X-WR-CALNAME:Wydarzenia
BEGIN:VEVENT
DTSTART:20240305T153000
DTEND:20240305T170000
UID:1
SUMMARY:Wykład z okazji Dnia Kobiet: "Smakowita pielęgnacja, czyli jak zdrowe odżywianie wpływa na Twój wygląd?"
END:VEVENT
END:VCALENDAR