BEGIN:VCALENDAR
VERSION:2.0
PRODID:-//dhtmlXScheduler//NONSGML v2.2//EN
X-WR-CALNAME:Wydarzenia
BEGIN:VEVENT
DTSTART:20260410T080000
DTEND:20260511T140000
UID:1
SUMMARY:Wystawa "Flux" Marcina Derdy
END:VEVENT
END:VCALENDAR