BEGIN:VCALENDAR
VERSION:2.0
PRODID:-//dhtmlXScheduler//NONSGML v2.2//EN
X-WR-CALNAME:Wydarzenia
BEGIN:VEVENT
DTSTART:20251208T120000
DTEND:20260108T150000
UID:1
SUMMARY:Wystawa Natalii Pietrulewicz pt: Po/więź
END:VEVENT
END:VCALENDAR