BEGIN:VCALENDAR
VERSION:2.0
PRODID:-//dhtmlXScheduler//NONSGML v2.2//EN
X-WR-CALNAME:Wydarzenia
BEGIN:VEVENT
DTSTART:20251210T100000
DTEND:20251211T133000
UID:1
SUMMARY:XIV Konferencja Naukowo-Techniczna „Mosty, przepusty i przejścia dla zwierząt – Infrastruktura wobec zjawisk ekstremalnych”
END:VEVENT
END:VCALENDAR