BEGIN:VCALENDAR
VERSION:2.0
PRODID:-//dhtmlXScheduler//NONSGML v2.2//EN
X-WR-CALNAME:Wydarzenia
BEGIN:VEVENT
DTSTART:20260614T000000
DTEND:20260617T000000
UID:1
SUMMARY:XVI Konferencja Naukowa Systemy Pomiarowe w Badaniach Naukowych i w Przemyśle - SP2026
END:VEVENT
END:VCALENDAR