BEGIN:VCALENDAR
VERSION:2.0
PRODID:-//dhtmlXScheduler//NONSGML v2.2//EN
X-WR-CALNAME:Wydarzenia
BEGIN:VEVENT
DTSTART:20251106T093000
DTEND:20251106T123000
UID:1
SUMMARY:XVIII Konferencja nt. Transplantacji i Krwiodawstwa pt. "Człowiek człowiekowi darem"
END:VEVENT
END:VCALENDAR