BEGIN:VCALENDAR
VERSION:2.0
PRODID:-//dhtmlXScheduler//NONSGML v2.2//EN
X-WR-CALNAME:Wydarzenia
BEGIN:VEVENT
DTSTART:20241121T110000
DTEND:20241123T210000
UID:1
SUMMARY:XX Międzynarodowy Festiwal Green Town of Jazz 2024 Edycja Jubileuszowa
END:VEVENT
END:VCALENDAR