BEGIN:VCALENDAR
VERSION:2.0
PRODID:-//dhtmlXScheduler//NONSGML v2.2//EN
X-WR-CALNAME:Wydarzenia
BEGIN:VEVENT
DTSTART:20260317T100000
DTEND:20260318T150000
UID:1
SUMMARY:XXIX edycja Międzynarodowych Dni Frankofonii
END:VEVENT
END:VCALENDAR